BEGIN:VCALENDAR
VERSION:2.0
PRODID:-//napsf.org//NONSGML kigkonsult.se iCalcreator 2.30.10//
CALSCALE:GREGORIAN
METHOD:PUBLISH
UID:9b7b24e6-62b3-487d-81ff-d4d566c56ce6
X-WR-CALDESC:Giving is Contagious\n2020 NAPSF Online Virtual Conference\nOc
 tober 29 | 1pm to 4 pm\n\nJoin the Nebraska Association of Public School F
 oundations at our 2020 Online Virtual Conference. The conference will feat
 ure keynote speaker Lynne Wester\, Donor Relations Guru Group\; guided rou
 nd table discussions\; NAPSF annual meeting\; and a virtual meet and greet
 . \n\nRegistration:  now - October 28\, 2020\nNAPSF Member Rate:  $25\nNon
 -member Rate: $40\n\n
X-WR-RELCALID:18c07011bd45add24fca14bb2a0f68e0
X-WR-TIMEZONE:America/Chicago
BEGIN:VTIMEZONE
TZID:America/Chicago
BEGIN:STANDARD
TZNAME:CST
DTSTART:20191103T020000
TZOFFSETFROM:-0500
TZOFFSETTO:-0600
RDATE:20201101T020000
RDATE:20211107T020000
END:STANDARD
BEGIN:DAYLIGHT
TZNAME:CDT
DTSTART:20200308T020000
TZOFFSETFROM:-0600
TZOFFSETTO:-0500
RDATE:20210314T020000
RDATE:20220313T020000
END:DAYLIGHT
END:VTIMEZONE
BEGIN:VEVENT
UID:435576a6-7864-49f0-bd77-922e73dab7b6
DTSTAMP:20260419T225115Z
DESCRIPTION:Giving is Contagious\n2020 NAPSF Online Virtual Conference\nOct
 ober 29 | 1pm to 4 pm\n\nJoin the Nebraska Association of Public School Fo
 undations at our 2020 Online Virtual Conference. The conference will featu
 re keynote speaker Lynne Wester\, Donor Relations Guru Group\; guided roun
 d table discussions\; NAPSF annual meeting\; and a virtual meet and greet.
  \n\nRegistration:  now - October 28\, 2020\nNAPSF Member Rate:  $25\nNon-
 member Rate: $40\n\n
DTSTART;TZID=America/Chicago:20201029T130000
DTEND;TZID=America/Chicago:20201029T160000
LOCATION:
SUMMARY:2020 NAPSF Virtual Conference
END:VEVENT
END:VCALENDAR
